BEGIN:VCALENDAR
VERSION:2.0
PRODID:-//Contratero//ES
CALSCALE:GREGORIAN
METHOD:PUBLISH
BEGIN:VEVENT
UID:MAD-2023-07-27 Mantenimiento SAP 2023-2027@contratero.es
DTSTAMP:20260423T082624Z
DTSTART:20231114T235959
DTEND:20231115T005959
SUMMARY:Cierre: Mantenimiento Técnico y Funcional del conjunto de 
DESCRIPTION:Mantenimiento Técnico y Funcional del conjunto de módulos funcionales operativos sobre la Plataforma SAP de Navantia\, independientemente de la versión\, que permitan mantener las funcionalidades actual...\\n\\nOrganismo: Comité de Dirección Corporativo de Navantia S.A.\, S.M.E.\\n\\nVer en Contratero: https://contratero.es/contracts/MAD-2023-07-27 Mantenimiento SAP 2023-2027
URL:https://contratero.es/contracts/MAD-2023-07-27 Mantenimiento SAP 2023-2027
STATUS:CONFIRMED
BEGIN:VALARM
TRIGGER:-P1D
ACTION:DISPLAY
DESCRIPTION:Recordatorio: Mantenimiento Técnico y Funcio
END:VALARM
END:VEVENT
END:VCALENDAR